BEGIN:VCALENDAR
VERSION:2.0
PRODID:-//TYPO3/NONSGML News system (news)//DE
BEGIN:VEVENT
UID:news-219@www.realschule-rutesheim.de
SUMMARY:Pfingstferien (25.05. - 05.06.2026)
DTSTAMP:20260420T094610
DTSTART:20260525T000000
DTEND:20260605T235900
LOCATION:
END:VEVENT
END:VCALENDAR
