BEGIN:VCALENDAR
VERSION:2.0
PRODID:-//TYPO3/NONSGML News system (news)//DE
BEGIN:VEVENT
UID:news-389@www.realschule-rutesheim.de
SUMMARY:Pädagogischer Tag (unterrichtsfrei)
DTSTAMP:20260420T090624
DTSTART:20260424T074500
DTEND:20260424T170000
LOCATION:
END:VEVENT
END:VCALENDAR
