BEGIN:VCALENDAR
VERSION:2.0
PRODID:-//TYPO3/NONSGML News system (news)//DE
BEGIN:VEVENT
UID:news-234@www.realschule-rutesheim.de
SUMMARY:Notenbekanntgabe RSAP + HSAP
DTSTAMP:20260420T095020
DTSTART:20260625T000000
DTEND:20260625T235900
LOCATION:
END:VEVENT
END:VCALENDAR
