BEGIN:VCALENDAR
VERSION:2.0
PRODID:-//TYPO3/NONSGML News system (news)//DE
BEGIN:VEVENT
UID:news-375@www.realschule-rutesheim.de
SUMMARY:Kurswoche 4 (27.04. - 30.04.2026)
DTSTAMP:20260420T091123
DTSTART:20260427T074500
DTEND:20260430T125500
LOCATION:
END:VEVENT
END:VCALENDAR
