BEGIN:VCALENDAR
VERSION:2.0
PRODID:-//TYPO3/NONSGML News system (news)//DE
BEGIN:VEVENT
UID:news-407@www.realschule-rutesheim.de
SUMMARY:Eltern-Infoabend Kl. 7: Risiken und Gefahren beim Drogenkonsum (Polizei LB)
DTSTAMP:20260420T090838
DTSTART:20260421T180000
DTEND:20260421T200000
LOCATION:
END:VEVENT
END:VCALENDAR
