BEGIN:VCALENDAR
VERSION:2.0
PRODID:-//TYPO3/NONSGML News system (news)//DE
BEGIN:VEVENT
UID:news-236@www.realschule-rutesheim.de
SUMMARY:Bekanntgabe der Prüfungspläne RSAP + HSAP
DTSTAMP:20260420T095212
DTSTART:20260629T090000
DTEND:20260629T120000
LOCATION:
END:VEVENT
END:VCALENDAR
