BEGIN:VCALENDAR
VERSION:2.0
PRODID:-//TYPO3/NONSGML News system (news)//DE
BEGIN:VEVENT
UID:news-235@www.realschule-rutesheim.de
SUMMARY:Anmeldung zur Mdl. Prüfung RSAP + HSAP
DTSTAMP:20260420T095115
DTSTART:20260626T080000
DTEND:20260626T100000
LOCATION:
END:VEVENT
END:VCALENDAR
